BEGIN:VCALENDAR
METHOD:PUBLISH
VERSION:2.0
CALSCALE:GREGORIAN
PRODID:-//NONSGML WPForms//NONSGML Sugar Calendar Feeds v3.11.0//EN
X-WR-CALNAME:Monroeville Fire and EMS Show
X-WR-CALDESC:Penn Care\, Inc.
X-WR-TIMEZONE:America/New_York
BEGIN:VTIMEZONE
TZID:America/New_York
BEGIN:STANDARD
TZOFFSETFROM:-0400
TZOFFSETTO:-0500
DTSTART:20261101T060000
TZNAME:EST
END:STANDARD
END:VTIMEZONE
BEGIN:VTIMEZONE
TZID:America/New_York
BEGIN:STANDARD
TZOFFSETFROM:-0400
TZOFFSETTO:-0500
DTSTART:20261101T060000
TZNAME:EST
END:STANDARD
END:VTIMEZONE
BEGIN:VEVENT
SUMMARY:Monroeville Fire and EMS Show
DESCRIPTION:Divisions that Penn Care will have at the exhibit:\nMedix Sp
 ecialty Vehicles\, Fastlane Emergency Vehicles\, &amp\; EMS Medical Equi
 pment\n\nPenn Care Employees at the exhibit: Ryan Quahliero\, Kris Wyant
  &amp\; Mark DiBattiste
URL;VALUE=URI:https://www.penncare.net/events/monroeville-fire-and-ems-s
 how-2027/
UID:urn:uuid:400d7201-30b5-470e-86db-295c63282769
STATUS:CONFIRMED
ORGANIZER:
DTSTAMP:20260422T125544Z
DTSTART;VALUE=DATE:20270306
DTEND;VALUE=DATE:20270307
LOCATION:Monroeville Convention Center 209 Mall Blvd\, Monroeville\, PA 
 15146
END:VEVENT
END:VCALENDAR